BEGIN:VCALENDAR
VERSION:2.0
PRODID:-//Lovin Life in the Smokies Events Calendar - ECPv6.3.5//NONSGML v1.0//EN
CALSCALE:GREGORIAN
METHOD:PUBLISH
X-WR-CALNAME:Lovin Life in the Smokies Events Calendar
X-ORIGINAL-URL:https://events.lovinlifeinthesmokies.com
X-WR-CALDESC:Events for Lovin Life in the Smokies Events Calendar
REFRESH-INTERVAL;VALUE=DURATION:PT1H
X-Robots-Tag:noindex
X-PUBLISHED-TTL:PT1H
BEGIN:VTIMEZONE
TZID:America/Halifax
BEGIN:DAYLIGHT
TZOFFSETFROM:-0400
TZOFFSETTO:-0300
TZNAME:ADT
DTSTART:20240310T060000
END:DAYLIGHT
BEGIN:STANDARD
TZOFFSETFROM:-0300
TZOFFSETTO:-0400
TZNAME:AST
DTSTART:20241103T050000
END:STANDARD
END:VTIMEZONE
BEGIN:VEVENT
DTSTART;TZID=America/Halifax:20240601T050000
DTEND;TZID=America/Halifax:20240602T170000
DTSTAMP:20260421T225200
CREATED:20240517T011902Z
LAST-MODIFIED:20240517T011902Z
UID:270-1717218000-1717347600@events.lovinlifeinthesmokies.com
SUMMARY:Sevierville’s Smallmouth King Bass Tournament
DESCRIPTION:Cast Your Line at Sevierville’s Smallmouth King Bass Tournament!\nHello\, fishing enthusiasts! Lovin’ Life in the Smokies is excited to reel you into the sixth annual Smallmouth King Bass Tournament\, happening on June 1-2\, 2024\, in beautiful Sevierville\, Tennessee. Get ready to test your skills in one of the South’s premier smallmouth bass tournaments and compete for the title of Sevierville’s Smallmouth King of the Smokies! \nEvent Details: \n\nDate: June 1-2\, 2024\nLocation: Little Pigeon River and its tributaries\, Sevierville\, TN\n\nThis thrilling two-day event\, presented by the Sevierville Chamber of Commerce\, will have anglers from all over testing their mettle on Sevierville’s world-class bass waters. Whether you prefer fishing from the shore\, wading\, or from a kayak\, this tournament offers a variety of ways to hook that prize-winning bass. \nTournament Highlights: \n\nCatch-Photograph-Release: Participate in the area’s first smallmouth-bass-only\, catch-photograph-release event.\nSpring Runs: Fish during the prime spring runs when the waters are teeming with thousands of migrating bass.\nCompetition: Winners will be determined by their two-day total length of smallmouth bass greater than 12 inches. Real-time updates will keep everyone on the edge of their seats!\n\nSchedule: \n\nSaturday\, June 1:\n\nMandatory Tournament Meeting: 5:30 a.m. – 6:30 a.m. (Check-in at 5:00 a.m.)\nTournament Begins: 7:00 a.m.\nLast Line Out: 5:00 p.m.\n\n\nSunday\, June 2:\n\nTournament Begins: 6:00 a.m.\nTournament Ends: 2:00 p.m.\nAwards Ceremony: 3:00 p.m. at the Sevierville Chamber of Commerce\, 110 Gary Wade Blvd.\, Sevierville\, TN 37862\n\n\n\nPrizes: \n\nGrand Prize: $1\,000\n2nd Place: $500\n3rd Place: $350\n4th Place: $300\n5th Place: $250\n6th Place: $200\n7th Place: $150\n8th Place: $100\n9th Place: $75\n10th Place: $50\nBiggest Fish Saturday: $100\nBiggest Fish Sunday: $100\n\nEntry Fee: \n\nEarly Registration (by 12:00pm on Friday\, May 31): $50 (includes official Hawg Trough measuring device)\nLate Registration (after Friday\, May 31): $75\nRegistration Closes: 5:30 a.m. on Saturday\, June 1\n\nFor more information and to register\, contact Tournament Director Greg Ward at 865-661-3474. Be sure to check out the tournament map and rules by clicking the links provided. \nBecome a Member: Stay updated on all the fantastic events in the Smoky Mountains by joining our community at Lovin’ Life in the Smokies. As a member\, you’ll receive updates\, event invitations\, and all the latest news about our beautiful region. \nSo grab your gear and get ready for an unforgettable fishing experience! This is Lovin’ Life in the Smokies\, bringing you the best of the Smoky Mountains. See you at the Smallmouth King Bass Tournament! \nWarm regards\, \nLovin’ Life in the Smokies
URL:https://events.lovinlifeinthesmokies.com/event/seviervilles-smallmouth-king-bass-tournament/
LOCATION:Sevierville Chamber of Commerce\, 110 Gary Wade Blvd\, Sevierville\, TN\, 37862
CATEGORIES:Fishing Tournament
ATTACH;FMTTYPE=image/jpeg:https://events.lovinlifeinthesmokies.com/wp-content/uploads/2024/05/untitled-03158.jpg
END:VEVENT
END:VCALENDAR